BEGIN:VCALENDAR
VERSION:2.0
PRODID:-//Our Lady Star of the Sea, Watson&#039;s Bay - ECPv5.0.2.1//NONSGML v1.0//EN
CALSCALE:GREGORIAN
METHOD:PUBLISH
X-WR-CALNAME:Our Lady Star of the Sea, Watson&#039;s Bay
X-ORIGINAL-URL:https://www.olss.org.au
X-WR-CALDESC:Events for Our Lady Star of the Sea, Watson&#039;s Bay
BEGIN:VTIMEZONE
TZID:Australia/Sydney
BEGIN:STANDARD
TZOFFSETFROM:+1100
TZOFFSETTO:+1000
TZNAME:AEST
DTSTART:20200404T160000
END:STANDARD
BEGIN:DAYLIGHT
TZOFFSETFROM:+1000
TZOFFSETTO:+1100
TZNAME:AEDT
DTSTART:20201003T160000
END:DAYLIGHT
END:VTIMEZONE
BEGIN:VEVENT
DTSTART;TZID=Australia/Sydney:20201107T140000
DTEND;TZID=Australia/Sydney:20201107T160000
DTSTAMP:20200301T022554
CREATED:20190620T235036Z
LAST-MODIFIED:20190620T235125Z
UID:2525-1604757600-1604764800@www.olss.org.au
SUMMARY:Reserved for R Borg/N Boulden
DESCRIPTION:
URL:https://www.olss.org.au/event/wedding-booking-for-r-bog-n-boulden/
END:VEVENT
END:VCALENDAR