BEGIN:VCALENDAR
VERSION:2.0
PRODID:-//Our Lady Star of the Sea, Watson&#039;s Bay - ECPv5.0.2.1//NONSGML v1.0//EN
CALSCALE:GREGORIAN
METHOD:PUBLISH
X-WR-CALNAME:Our Lady Star of the Sea, Watson&#039;s Bay
X-ORIGINAL-URL:https://www.olss.org.au
X-WR-CALDESC:Events for Our Lady Star of the Sea, Watson&#039;s Bay
BEGIN:VTIMEZONE
TZID:Australia/Sydney
BEGIN:STANDARD
TZOFFSETFROM:+1100
TZOFFSETTO:+1000
TZNAME:AEST
DTSTART:20190406T160000
END:STANDARD
BEGIN:DAYLIGHT
TZOFFSETFROM:+1000
TZOFFSETTO:+1100
TZNAME:AEDT
DTSTART:20191005T160000
END:DAYLIGHT
END:VTIMEZONE
BEGIN:VEVENT
DTSTART;TZID=Australia/Sydney:20191101T160000
DTEND;TZID=Australia/Sydney:20191101T173000
DTSTAMP:20200301T022227
CREATED:20190628T051515Z
LAST-MODIFIED:20190628T051515Z
UID:2530-1572624000-1572629400@www.olss.org.au
SUMMARY:Reserved for Larissa Holland
DESCRIPTION:
URL:https://www.olss.org.au/event/reserved-for-larissa-holland/
END:VEVENT
END:VCALENDAR