BEGIN:VCALENDAR
VERSION:2.0
PRODID:-//Our Lady Star of the Sea, Watson&#039;s Bay - ECPv5.0.2.1//NONSGML v1.0//EN
CALSCALE:GREGORIAN
METHOD:PUBLISH
X-WR-CALNAME:Our Lady Star of the Sea, Watson&#039;s Bay
X-ORIGINAL-URL:https://www.olss.org.au
X-WR-CALDESC:Events for Our Lady Star of the Sea, Watson&#039;s Bay
BEGIN:VTIMEZONE
TZID:Australia/Sydney
BEGIN:STANDARD
TZOFFSETFROM:+1100
TZOFFSETTO:+1000
TZNAME:AEST
DTSTART:20190406T160000
END:STANDARD
BEGIN:DAYLIGHT
TZOFFSETFROM:+1000
TZOFFSETTO:+1100
TZNAME:AEDT
DTSTART:20191005T160000
END:DAYLIGHT
END:VTIMEZONE
BEGIN:VEVENT
DTSTART;TZID=Australia/Sydney:20190908T100000
DTEND;TZID=Australia/Sydney:20190908T110000
DTSTAMP:20200301T024104
CREATED:20190819T005038Z
LAST-MODIFIED:20190819T005038Z
UID:2575-1567936800-1567940400@www.olss.org.au
SUMMARY:Reserved for Booth family baptism
DESCRIPTION:
URL:https://www.olss.org.au/event/reserved-for-booth-family-baptism/
END:VEVENT
END:VCALENDAR